BEGIN:VCALENDAR
VERSION:2.0
PRODID:-//Comité Aube Tennis de Table - ECPv6.15.20//NONSGML v1.0//EN
CALSCALE:GREGORIAN
METHOD:PUBLISH
X-ORIGINAL-URL:https://beta.catt3.fr
X-WR-CALDESC:Évènements pour Comité Aube Tennis de Table
REFRESH-INTERVAL;VALUE=DURATION:PT1H
X-Robots-Tag:noindex
X-PUBLISHED-TTL:PT1H
BEGIN:VTIMEZONE
TZID:Europe/Paris
BEGIN:DAYLIGHT
TZOFFSETFROM:+0100
TZOFFSETTO:+0200
TZNAME:CEST
DTSTART:20240331T010000
END:DAYLIGHT
BEGIN:STANDARD
TZOFFSETFROM:+0200
TZOFFSETTO:+0100
TZNAME:CET
DTSTART:20241027T010000
END:STANDARD
BEGIN:DAYLIGHT
TZOFFSETFROM:+0100
TZOFFSETTO:+0200
TZNAME:CEST
DTSTART:20250330T010000
END:DAYLIGHT
BEGIN:STANDARD
TZOFFSETFROM:+0200
TZOFFSETTO:+0100
TZNAME:CET
DTSTART:20251026T010000
END:STANDARD
BEGIN:DAYLIGHT
TZOFFSETFROM:+0100
TZOFFSETTO:+0200
TZNAME:CEST
DTSTART:20260329T010000
END:DAYLIGHT
BEGIN:STANDARD
TZOFFSETFROM:+0200
TZOFFSETTO:+0100
TZNAME:CET
DTSTART:20261025T010000
END:STANDARD
END:VTIMEZONE
BEGIN:VEVENT
DTSTART;TZID=Europe/Paris:20250415T181500
DTEND;TZID=Europe/Paris:20250415T200000
DTSTAMP:20260420T195442
CREATED:20260208T191902Z
LAST-MODIFIED:20260208T192223Z
UID:22802-1744740900-1744747200@beta.catt3.fr
SUMMARY:Stage adultes - Les services et les relances
DESCRIPTION:Stage thématique adultes\nSoirée de perfectionnement dédiée aux services et aux relances\, pour les joueurs adultes et juniors licenciés FFTT. \nThématique\nLes services et les relances : travail sur la qualité et la variété des services\, les placements tactiques\, et la gestion des premières balles après le service. \nInformations pratiques\n\nPublic : Adultes et juniors licenciés FFTT\nTarif : 5 € (paiement en espèces sur place)\nPlaces limitées : 20 participants maximum\nInscription : Par SMS au 06 27 24 15 91\n\nEncadrement\n\nGuillaume DAVENNE – Entraîneur DEJEPS\nFrancine GUTH – Entraîneuse DEJEPS
URL:https://beta.catt3.fr/event/stage-adultes-les-services-et-les-relances/
ATTACH;FMTTYPE=image/jpeg:https://beta.catt3.fr/wp-content/uploads/2026/02/Stage-adultes-avril-2025.jpg
END:VEVENT
BEGIN:VEVENT
DTSTART;TZID=Europe/Paris:20250415T181500
DTEND;TZID=Europe/Paris:20250415T200000
DTSTAMP:20260420T195442
CREATED:20260208T204405Z
LAST-MODIFIED:20260208T205314Z
UID:22812-1744740900-1744747200@beta.catt3.fr
SUMMARY:Stage adultes février 2025
DESCRIPTION:Journée 1
URL:https://beta.catt3.fr/event/stage-adultes-fevrier-2025/
CATEGORIES:Stages
ATTACH;FMTTYPE=image/jpeg:https://beta.catt3.fr/wp-content/uploads/2026/02/Stage-adultes-avril-2025.jpg
END:VEVENT
BEGIN:VEVENT
DTSTART;TZID=Europe/Paris:20250416T181500
DTEND;TZID=Europe/Paris:20250416T200000
DTSTAMP:20260420T195442
CREATED:20260208T191853Z
LAST-MODIFIED:20260208T192304Z
UID:22801-1744827300-1744833600@beta.catt3.fr
SUMMARY:Stage adultes - Les déplacements et la régularité
DESCRIPTION:Stage thématique adultes\nSoirée de perfectionnement dédiée aux déplacements et à la régularité\, pour les joueurs adultes et juniors licenciés FFTT. \nThématique\nLes déplacements et la régularité : travail sur le placement\, les appuis\, la fluidité des mouvements et la constance dans le jeu. \nInformations pratiques\n\nPublic : Adultes et juniors licenciés FFTT\nTarif : 5 € (paiement en espèces sur place)\nPlaces limitées : 20 participants maximum\nInscription : Par SMS au 06 27 24 15 91\n\nEncadrement\n\nGuillaume DAVENNE – Entraîneur DEJEPS\nFrancine GUTH – Entraîneuse DEJEPS
URL:https://beta.catt3.fr/event/stage-adultes-les-deplacements-et-la-regularite/
ATTACH;FMTTYPE=image/jpeg:https://beta.catt3.fr/wp-content/uploads/2026/02/Stage-adultes-avril-2025.jpg
END:VEVENT
BEGIN:VEVENT
DTSTART;TZID=Europe/Paris:20250416T181500
DTEND;TZID=Europe/Paris:20250416T200000
DTSTAMP:20260420T195442
CREATED:20260208T204405Z
LAST-MODIFIED:20260208T205315Z
UID:22813-1744827300-1744833600@beta.catt3.fr
SUMMARY:Stage adultes février 2025
DESCRIPTION:Journée 2
URL:https://beta.catt3.fr/event/stage-adultes-fevrier-2025-2/
CATEGORIES:Stages
ATTACH;FMTTYPE=image/jpeg:https://beta.catt3.fr/wp-content/uploads/2026/02/Stage-adultes-avril-2025.jpg
END:VEVENT
END:VCALENDAR